{"text_format":"1","workbook":"xlsx","n_sheets":7,"sheets":["ボタン","グラフ要約","グラフ詳細","回答データ一覧","管理職","一般社員","グラフ元データ"],"not_rendered":{"charts":9,"images":0,"macros":1,"external_links":0,"defined_names":2,"comments":0,"pivot_tables":0},"unopened":[],"bounds":{"document_bytes":16777216,"sheet_cells":100000,"rows_first":2000,"rows_last":500,"rows_between":2000,"halvings":0,"cell_chars":16384,"cell_head_chars":4096},"cells_cut":0,"cells_raw":0,"read":"whole","date_system":"1900"}

{"sheet":"ボタン","index":0,"n_rows":0,"n_cols":0,"rows_kept":0,"cut":false,"hidden":false,"merged":[]}

{"sheet":"グラフ要約","index":1,"n_rows":27,"n_cols":10,"rows_kept":27,"cut":false,"hidden":false,"merged":[]}
[]
[null,"◆グラフ要約"]
[null,"《モチベーション》",null,null,null,null,null,null,null,"《人事サイクルの土壌》"]
[]
[]
[]
[]
[]
[]
[]
[]
[]
[]
[]
[]
[]
[]
[]
[]
[]
[]
[]
[]
[]
[]
[]
[null,"《顧客志向の業務》",null,null,null,null,null,null,null,"《コミュニケーション》"]

{"sheet":"グラフ詳細","index":2,"n_rows":1,"n_cols":2,"rows_kept":1,"cut":false,"hidden":false,"merged":[]}
[null,"◆グラフ詳細"]

{"sheet":"回答データ一覧","index":3,"n_rows":0,"n_cols":0,"rows_kept":0,"cut":false,"hidden":false,"merged":[]}

{"sheet":"管理職","index":4,"n_rows":0,"n_cols":0,"rows_kept":0,"cut":false,"hidden":false,"merged":[]}

{"sheet":"一般社員","index":5,"n_rows":0,"n_cols":0,"rows_kept":0,"cut":false,"hidden":false,"merged":[]}

{"sheet":"グラフ元データ","index":6,"n_rows":58,"n_cols":31,"rows_kept":58,"cut":false,"hidden":false,"merged":[]}
[null,"モチベーション",null,null,"顧客志向の業務"]
[null,"Q1.我が社で働くとモチベーションが上がる。",null,null,"Q2.我が社の社員は、お客様からの感謝の手紙によく目を通している。",null,null,"Q3.我が社では、お客様からクレームが来たら全社を挙げて原因を解決している。",null,null,"Q4.我が社には、お客様を感動させるために手間暇を惜しまない仕事・業務・工程がある。",null,null,"Q5.我が社では、生産性向上のための業務効率化に取り組んでいる。",null,null,"Q6.我が社の社員は、仕事で使う作業用具を大事に扱っている。"]
[null,"全体","管理職","一般社員","全体","管理職","一般社員","全体","管理職","一般社員","全体","管理職","一般社員","全体","管理職","一般社員","全体","管理職","一般社員"]
["1.あてはまらない",{"$f":"COUNTIF(回答データ一覧!$D:$D,5)","v":0},{"$f":"COUNTIF(管理職!$D:$D,5)","v":0},{"$f":"COUNTIF(一般社員!$D:$D,5)","v":0},{"$f":"COUNTIF(回答データ一覧!$E:$E,5)","v":0},{"$f":"COUNTIF(管理職!$E:$E,5)","v":0},{"$f":"COUNTIF(一般社員!$E:$E,5)","v":0},{"$f":"COUNTIF(回答データ一覧!$F:$F,5)","v":0},{"$f":"COUNTIF(管理職!$F:$F,5)","v":0},{"$f":"COUNTIF(一般社員!$F:$F,5)","v":0},{"$f":"COUNTIF(回答データ一覧!$G:$G,5)","v":0},{"$f":"COUNTIF(管理職!$G:$G,5)","v":0},{"$f":"COUNTIF(一般社員!$G:$G,5)","v":0},{"$f":"COUNTIF(回答データ一覧!$H:$H,5)","v":0},{"$f":"COUNTIF(管理職!$H:$H,5)","v":0},{"$f":"COUNTIF(一般社員!$H:$H,5)","v":0},{"$f":"COUNTIF(回答データ一覧!$I:$I,5)","v":0},{"$f":"COUNTIF(管理職!$I:$I,5)","v":0},{"$f":"COUNTIF(一般社員!$I:$I,5)","v":0}]
["2.ややあてはまらない",{"$f":"COUNTIF(回答データ一覧!$D:$D,4)","v":0},{"$f":"COUNTIF(管理職!$D:$D,4)","v":0},{"$f":"COUNTIF(一般社員!$D:$D,4)","v":0},{"$f":"COUNTIF(回答データ一覧!$E:$E,4)","v":0},{"$f":"COUNTIF(管理職!$E:$E,4)","v":0},{"$f":"COUNTIF(一般社員!$E:$E,4)","v":0},{"$f":"COUNTIF(回答データ一覧!$F:$F,4)","v":0},{"$f":"COUNTIF(管理職!$F:$F,4)","v":0},{"$f":"COUNTIF(一般社員!$F:$F,4)","v":0},{"$f":"COUNTIF(回答データ一覧!$G:$G,4)","v":0},{"$f":"COUNTIF(管理職!$G:$G,4)","v":0},{"$f":"COUNTIF(一般社員!$G:$G,4)","v":0},{"$f":"COUNTIF(回答データ一覧!$H:$H,4)","v":0},{"$f":"COUNTIF(管理職!$H:$H,4)","v":0},{"$f":"COUNTIF(一般社員!$H:$H,4)","v":0},{"$f":"COUNTIF(回答データ一覧!$I:$I,4)","v":0},{"$f":"COUNTIF(管理職!$I:$I,4)","v":0},{"$f":"COUNTIF(一般社員!$I:$I,4)","v":0}]
["3.どちらとも言えない",{"$f":"COUNTIF(回答データ一覧!$D:$D,3)","v":0},{"$f":"COUNTIF(管理職!$D:$D,3)","v":0},{"$f":"COUNTIF(一般社員!$D:$D,3)","v":0},{"$f":"COUNTIF(回答データ一覧!$E:$E,3)","v":0},{"$f":"COUNTIF(管理職!$E:$E,3)","v":0},{"$f":"COUNTIF(一般社員!$E:$E,3)","v":0},{"$f":"COUNTIF(回答データ一覧!$F:$F,3)","v":0},{"$f":"COUNTIF(管理職!$F:$F,3)","v":0},{"$f":"COUNTIF(一般社員!$F:$F,3)","v":0},{"$f":"COUNTIF(回答データ一覧!$G:$G,3)","v":0},{"$f":"COUNTIF(管理職!$G:$G,3)","v":0},{"$f":"COUNTIF(一般社員!$G:$G,3)","v":0},{"$f":"COUNTIF(回答データ一覧!$H:$H,3)","v":0},{"$f":"COUNTIF(管理職!$H:$H,3)","v":0},{"$f":"COUNTIF(一般社員!$H:$H,3)","v":0},{"$f":"COUNTIF(回答データ一覧!$I:$I,3)","v":0},{"$f":"COUNTIF(管理職!$I:$I,3)","v":0},{"$f":"COUNTIF(一般社員!$I:$I,3)","v":0}]
["4.ややあてはまる",{"$f":"COUNTIF(回答データ一覧!$D:$D,2)","v":0},{"$f":"COUNTIF(管理職!$D:$D,2)","v":0},{"$f":"COUNTIF(一般社員!$D:$D,2)","v":0},{"$f":"COUNTIF(回答データ一覧!$E:$E,2)","v":0},{"$f":"COUNTIF(管理職!$E:$E,2)","v":0},{"$f":"COUNTIF(一般社員!$E:$E,2)","v":0},{"$f":"COUNTIF(回答データ一覧!$F:$F,2)","v":0},{"$f":"COUNTIF(管理職!$F:$F,2)","v":0},{"$f":"COUNTIF(一般社員!$F:$F,2)","v":0},{"$f":"COUNTIF(回答データ一覧!$G:$G,2)","v":0},{"$f":"COUNTIF(管理職!$G:$G,2)","v":0},{"$f":"COUNTIF(一般社員!$G:$G,2)","v":0},{"$f":"COUNTIF(回答データ一覧!$H:$H,2)","v":0},{"$f":"COUNTIF(管理職!$H:$H,2)","v":0},{"$f":"COUNTIF(一般社員!$H:$H,2)","v":0},{"$f":"COUNTIF(回答データ一覧!$I:$I,2)","v":0},{"$f":"COUNTIF(管理職!$I:$I,2)","v":0},{"$f":"COUNTIF(一般社員!$I:$I,2)","v":0}]
["5.あてはまる",{"$f":"COUNTIF(回答データ一覧!$D:$D,1)","v":0},{"$f":"COUNTIF(管理職!$D:$D,1)","v":0},{"$f":"COUNTIF(一般社員!$D:$D,1)","v":0},{"$f":"COUNTIF(回答データ一覧!$E:$E,1)","v":0},{"$f":"COUNTIF(管理職!$E:$E,1)","v":0},{"$f":"COUNTIF(一般社員!$E:$E,1)","v":0},{"$f":"COUNTIF(回答データ一覧!$F:$F,1)","v":0},{"$f":"COUNTIF(管理職!$F:$F,1)","v":0},{"$f":"COUNTIF(一般社員!$F:$F,1)","v":0},{"$f":"COUNTIF(回答データ一覧!$G:$G,1)","v":0},{"$f":"COUNTIF(管理職!$G:$G,1)","v":0},{"$f":"COUNTIF(一般社員!$G:$G,1)","v":0},{"$f":"COUNTIF(回答データ一覧!$H:$H,1)","v":0},{"$f":"COUNTIF(管理職!$H:$H,1)","v":0},{"$f":"COUNTIF(一般社員!$H:$H,1)","v":0},{"$f":"COUNTIF(回答データ一覧!$I:$I,1)","v":0},{"$f":"COUNTIF(管理職!$I:$I,1)","v":0},{"$f":"COUNTIF(一般社員!$I:$I,1)","v":0}]
["平均",{"$f":"(B8*5+B7*4+B6*3+B5*2+B4*1)/SUM(B4:B8)","v":{"$error":"#DIV/0!"}},{"$f":"(C8*5+C7*4+C6*3+C5*2+C4*1)/SUM(C4:C8)","v":{"$error":"#DIV/0!"}},{"$error":"#DIV/0!"},{"$error":"#DIV/0!"},{"$error":"#DIV/0!"},{"$error":"#DIV/0!"},{"$f":"(H8*5+H7*4+H6*3+H5*2+H4*1)/SUM(H4:H8)","v":{"$error":"#DIV/0!"}},{"$f":"(I8*5+I7*4+I6*3+I5*2+I4*1)/SUM(I4:I8)","v":{"$error":"#DIV/0!"}},{"$f":"(J8*5+J7*4+J6*3+J5*2+J4*1)/SUM(J4:J8)","v":{"$error":"#DIV/0!"}},{"$f":"(K8*5+K7*4+K6*3+K5*2+K4*1)/SUM(K4:K8)","v":{"$error":"#DIV/0!"}},{"$f":"(L8*5+L7*4+L6*3+L5*2+L4*1)/SUM(L4:L8)","v":{"$error":"#DIV/0!"}},{"$f":"(M8*5+M7*4+M6*3+M5*2+M4*1)/SUM(M4:M8)","v":{"$error":"#DIV/0!"}},{"$f":"(N8*5+N7*4+N6*3+N5*2+N4*1)/SUM(N4:N8)","v":{"$error":"#DIV/0!"}},{"$f":"(O8*5+O7*4+O6*3+O5*2+O4*1)/SUM(O4:O8)","v":{"$error":"#DIV/0!"}},{"$f":"(P8*5+P7*4+P6*3+P5*2+P4*1)/SUM(P4:P8)","v":{"$error":"#DIV/0!"}},{"$f":"(Q8*5+Q7*4+Q6*3+Q5*2+Q4*1)/SUM(Q4:Q8)","v":{"$error":"#DIV/0!"}},{"$f":"(R8*5+R7*4+R6*3+R5*2+R4*1)/SUM(R4:R8)","v":{"$error":"#DIV/0!"}},{"$f":"(S8*5+S7*4+S6*3+S5*2+S4*1)/SUM(S4:S8)","v":{"$error":"#DIV/0!"}}]
[]
[null,"採用",null,null,null,null,null,null,null,null,null,null,null,null,null,null,"異動"]
[null,"Q7.我が社では、新卒や未経験者の採用に注力している。",null,null,"Q8.我が社の企業説明会や採用面接は、自社での働きがいをアピールする場になっている。",null,null,"Q9.我が社では、人事担当者以外の社員が採用面接を行うことが多い。",null,null,"Q10.我が社の採用面接では、本人の能力だけでなく性格や人間性も重視している。",null,null,"Q11.我が社では、友人、家族や親戚、学校・前職の先輩や後輩など、身近な人の応募を積極的に受け入れている。",null,null,"Q12.我が社では、社員を多能工化するためにジョブローテーションを頻繁に実施している。",null,null,"Q13.我が社では、自分にとってチャレンジングな部署や役職に異動・昇進する機会が多い。",null,null,"Q14.我が社では、新しい部署に異動したり新しい役職に就いたりした後、引き継ぎがスムーズに行われる。",null,null,"Q15.我が社では、社員と会社が一緒になって各自のキャリア開発計画が作成されている。",null,null,"Q16.我が社では、左遷という言葉は使われない。"]
[null,"全体","管理職","一般社員","全体","管理職","一般社員","全体","管理職","一般社員","全体","管理職","一般社員","全体","管理職","一般社員","全体","管理職","一般社員","全体","管理職","一般社員","全体","管理職","一般社員","全体","管理職","一般社員","全体","管理職","一般社員"]
["1.あてはまらない",{"$f":"COUNTIF(回答データ一覧!$J:$J,5)","v":0},{"$f":"COUNTIF(管理職!$J:$J,5)","v":0},{"$f":"COUNTIF(一般社員!$J:$J,5)","v":0},{"$f":"COUNTIF(回答データ一覧!$K:$K,5)","v":0},{"$f":"COUNTIF(管理職!$K:$K,5)","v":0},{"$f":"COUNTIF(一般社員!$K:$K,5)","v":0},{"$f":"COUNTIF(回答データ一覧!$L:$L,5)","v":0},{"$f":"COUNTIF(管理職!$L:$L,5)","v":0},{"$f":"COUNTIF(一般社員!$L:$L,5)","v":0},{"$f":"COUNTIF(回答データ一覧!$M:$M,5)","v":0},{"$f":"COUNTIF(管理職!$M:$M,5)","v":0},{"$f":"COUNTIF(一般社員!$M:$M,5)","v":0},{"$f":"COUNTIF(回答データ一覧!$N:$N,5)","v":0},{"$f":"COUNTIF(管理職!$N:$N,5)","v":0},{"$f":"COUNTIF(一般社員!$N:$N,5)","v":0},{"$f":"COUNTIF(回答データ一覧!$O:$O,5)","v":0},{"$f":"COUNTIF(管理職!$O:$O,5)","v":0},{"$f":"COUNTIF(一般社員!$O:$O,5)","v":0},{"$f":"COUNTIF(回答データ一覧!$P:$P,5)","v":0},{"$f":"COUNTIF(管理職!$P:$P,5)","v":0},{"$f":"COUNTIF(一般社員!$P:$P,5)","v":0},{"$f":"COUNTIF(回答データ一覧!$Q:$Q,5)","v":0},{"$f":"COUNTIF(管理職!$Q:$Q,5)","v":0},{"$f":"COUNTIF(一般社員!$Q:$Q,5)","v":0},{"$f":"COUNTIF(回答データ一覧!$R:$R,5)","v":0},{"$f":"COUNTIF(管理職!$R:$R,5)","v":0},{"$f":"COUNTIF(一般社員!$R:$R,5)","v":0},{"$f":"COUNTIF(回答データ一覧!$S:$S,5)","v":0},{"$f":"COUNTIF(管理職!$S:$S,5)","v":0},{"$f":"COUNTIF(一般社員!$S:$S,5)","v":0}]
["2.ややあてはまらない",{"$f":"COUNTIF(回答データ一覧!$J:$J,4)","v":0},{"$f":"COUNTIF(管理職!$J:$J,4)","v":0},{"$f":"COUNTIF(一般社員!$J:$J,4)","v":0},{"$f":"COUNTIF(回答データ一覧!$K:$K,4)","v":0},{"$f":"COUNTIF(管理職!$K:$K,4)","v":0},{"$f":"COUNTIF(一般社員!$K:$K,4)","v":0},{"$f":"COUNTIF(回答データ一覧!$L:$L,4)","v":0},{"$f":"COUNTIF(管理職!$L:$L,4)","v":0},{"$f":"COUNTIF(一般社員!$L:$L,4)","v":0},{"$f":"COUNTIF(回答データ一覧!$M:$M,4)","v":0},{"$f":"COUNTIF(管理職!$M:$M,4)","v":0},{"$f":"COUNTIF(一般社員!$M:$M,4)","v":0},{"$f":"COUNTIF(回答データ一覧!$N:$N,4)","v":0},{"$f":"COUNTIF(管理職!$N:$N,4)","v":0},{"$f":"COUNTIF(一般社員!$N:$N,4)","v":0},{"$f":"COUNTIF(回答データ一覧!$O:$O,4)","v":0},{"$f":"COUNTIF(管理職!$O:$O,4)","v":0},{"$f":"COUNTIF(一般社員!$O:$O,4)","v":0},{"$f":"COUNTIF(回答データ一覧!$P:$P,4)","v":0},{"$f":"COUNTIF(管理職!$P:$P,4)","v":0},{"$f":"COUNTIF(一般社員!$P:$P,4)","v":0},{"$f":"COUNTIF(回答データ一覧!$Q:$Q,4)","v":0},{"$f":"COUNTIF(管理職!$Q:$Q,4)","v":0},{"$f":"COUNTIF(一般社員!$Q:$Q,4)","v":0},{"$f":"COUNTIF(回答データ一覧!$R:$R,4)","v":0},{"$f":"COUNTIF(管理職!$R:$R,4)","v":0},{"$f":"COUNTIF(一般社員!$R:$R,4)","v":0},{"$f":"COUNTIF(回答データ一覧!$S:$S,4)","v":0},{"$f":"COUNTIF(管理職!$S:$S,4)","v":0},{"$f":"COUNTIF(一般社員!$S:$S,4)","v":0}]
["3.どちらとも言えない",{"$f":"COUNTIF(回答データ一覧!$J:$J,3)","v":0},{"$f":"COUNTIF(管理職!$J:$J,3)","v":0},{"$f":"COUNTIF(一般社員!$J:$J,3)","v":0},{"$f":"COUNTIF(回答データ一覧!$K:$K,3)","v":0},{"$f":"COUNTIF(管理職!$K:$K,3)","v":0},{"$f":"COUNTIF(一般社員!$K:$K,3)","v":0},{"$f":"COUNTIF(回答データ一覧!$L:$L,3)","v":0},{"$f":"COUNTIF(管理職!$L:$L,3)","v":0},{"$f":"COUNTIF(一般社員!$L:$L,3)","v":0},{"$f":"COUNTIF(回答データ一覧!$M:$M,3)","v":0},{"$f":"COUNTIF(管理職!$M:$M,3)","v":0},{"$f":"COUNTIF(一般社員!$M:$M,3)","v":0},{"$f":"COUNTIF(回答データ一覧!$N:$N,3)","v":0},{"$f":"COUNTIF(管理職!$N:$N,3)","v":0},{"$f":"COUNTIF(一般社員!$N:$N,3)","v":0},{"$f":"COUNTIF(回答データ一覧!$O:$O,3)","v":0},{"$f":"COUNTIF(管理職!$O:$O,3)","v":0},{"$f":"COUNTIF(一般社員!$O:$O,3)","v":0},{"$f":"COUNTIF(回答データ一覧!$P:$P,3)","v":0},{"$f":"COUNTIF(管理職!$P:$P,3)","v":0},{"$f":"COUNTIF(一般社員!$P:$P,3)","v":0},{"$f":"COUNTIF(回答データ一覧!$Q:$Q,3)","v":0},{"$f":"COUNTIF(管理職!$Q:$Q,3)","v":0},{"$f":"COUNTIF(一般社員!$Q:$Q,3)","v":0},{"$f":"COUNTIF(回答データ一覧!$R:$R,3)","v":0},{"$f":"COUNTIF(管理職!$R:$R,3)","v":0},{"$f":"COUNTIF(一般社員!$R:$R,3)","v":0},{"$f":"COUNTIF(回答データ一覧!$S:$S,3)","v":0},{"$f":"COUNTIF(管理職!$S:$S,3)","v":0},{"$f":"COUNTIF(一般社員!$S:$S,3)","v":0}]
["4.ややあてはまる",{"$f":"COUNTIF(回答データ一覧!$J:$J,2)","v":0},{"$f":"COUNTIF(管理職!$J:$J,2)","v":0},{"$f":"COUNTIF(一般社員!$J:$J,2)","v":0},{"$f":"COUNTIF(回答データ一覧!$K:$K,2)","v":0},{"$f":"COUNTIF(管理職!$K:$K,2)","v":0},{"$f":"COUNTIF(一般社員!$K:$K,2)","v":0},{"$f":"COUNTIF(回答データ一覧!$L:$L,2)","v":0},{"$f":"COUNTIF(管理職!$L:$L,2)","v":0},{"$f":"COUNTIF(一般社員!$L:$L,2)","v":0},{"$f":"COUNTIF(回答データ一覧!$M:$M,2)","v":0},{"$f":"COUNTIF(管理職!$M:$M,2)","v":0},{"$f":"COUNTIF(一般社員!$M:$M,2)","v":0},{"$f":"COUNTIF(回答データ一覧!$N:$N,2)","v":0},{"$f":"COUNTIF(管理職!$N:$N,2)","v":0},{"$f":"COUNTIF(一般社員!$N:$N,2)","v":0},{"$f":"COUNTIF(回答データ一覧!$O:$O,2)","v":0},{"$f":"COUNTIF(管理職!$O:$O,2)","v":0},{"$f":"COUNTIF(一般社員!$O:$O,2)","v":0},{"$f":"COUNTIF(回答データ一覧!$P:$P,2)","v":0},{"$f":"COUNTIF(管理職!$P:$P,2)","v":0},{"$f":"COUNTIF(一般社員!$P:$P,2)","v":0},{"$f":"COUNTIF(回答データ一覧!$Q:$Q,2)","v":0},{"$f":"COUNTIF(管理職!$Q:$Q,2)","v":0},{"$f":"COUNTIF(一般社員!$Q:$Q,2)","v":0},{"$f":"COUNTIF(回答データ一覧!$R:$R,2)","v":0},{"$f":"COUNTIF(管理職!$R:$R,2)","v":0},{"$f":"COUNTIF(一般社員!$R:$R,2)","v":0},{"$f":"COUNTIF(回答データ一覧!$S:$S,2)","v":0},{"$f":"COUNTIF(管理職!$S:$S,2)","v":0},{"$f":"COUNTIF(一般社員!$S:$S,2)","v":0}]
["5.あてはまる",{"$f":"COUNTIF(回答データ一覧!$J:$J,1)","v":0},{"$f":"COUNTIF(管理職!$J:$J,1)","v":0},{"$f":"COUNTIF(一般社員!$J:$J,1)","v":0},{"$f":"COUNTIF(回答データ一覧!$K:$K,1)","v":0},{"$f":"COUNTIF(管理職!$K:$K,1)","v":0},{"$f":"COUNTIF(一般社員!$K:$K,1)","v":0},{"$f":"COUNTIF(回答データ一覧!$L:$L,1)","v":0},{"$f":"COUNTIF(管理職!$L:$L,1)","v":0},{"$f":"COUNTIF(一般社員!$L:$L,1)","v":0},{"$f":"COUNTIF(回答データ一覧!$M:$M,1)","v":0},{"$f":"COUNTIF(管理職!$M:$M,1)","v":0},{"$f":"COUNTIF(一般社員!$M:$M,1)","v":0},{"$f":"COUNTIF(回答データ一覧!$N:$N,1)","v":0},{"$f":"COUNTIF(管理職!$N:$N,1)","v":0},{"$f":"COUNTIF(一般社員!$N:$N,1)","v":0},{"$f":"COUNTIF(回答データ一覧!$O:$O,1)","v":0},{"$f":"COUNTIF(管理職!$O:$O,1)","v":0},{"$f":"COUNTIF(一般社員!$O:$O,1)","v":0},{"$f":"COUNTIF(回答データ一覧!$P:$P,1)","v":0},{"$f":"COUNTIF(管理職!$P:$P,1)","v":0},{"$f":"COUNTIF(一般社員!$P:$P,1)","v":0},{"$f":"COUNTIF(回答データ一覧!$Q:$Q,1)","v":0},{"$f":"COUNTIF(管理職!$Q:$Q,1)","v":0},{"$f":"COUNTIF(一般社員!$Q:$Q,1)","v":0},{"$f":"COUNTIF(回答データ一覧!$R:$R,1)","v":0},{"$f":"COUNTIF(管理職!$R:$R,1)","v":0},{"$f":"COUNTIF(一般社員!$R:$R,1)","v":0},{"$f":"COUNTIF(回答データ一覧!$S:$S,1)","v":0},{"$f":"COUNTIF(管理職!$S:$S,1)","v":0},{"$f":"COUNTIF(一般社員!$S:$S,1)","v":0}]
["平均",{"$f":"(B18*5+B17*4+B16*3+B15*2+B14*1)/SUM(B14:B18)","v":{"$error":"#DIV/0!"}},{"$f":"(C18*5+C17*4+C16*3+C15*2+C14*1)/SUM(C14:C18)","v":{"$error":"#DIV/0!"}},{"$f":"(D18*5+D17*4+D16*3+D15*2+D14*1)/SUM(D14:D18)","v":{"$error":"#DIV/0!"}},{"$f":"(E18*5+E17*4+E16*3+E15*2+E14*1)/SUM(E14:E18)","v":{"$error":"#DIV/0!"}},{"$f":"(F18*5+F17*4+F16*3+F15*2+F14*1)/SUM(F14:F18)","v":{"$error":"#DIV/0!"}},{"$f":"(G18*5+G17*4+G16*3+G15*2+G14*1)/SUM(G14:G18)","v":{"$error":"#DIV/0!"}},{"$f":"(H18*5+H17*4+H16*3+H15*2+H14*1)/SUM(H14:H18)","v":{"$error":"#DIV/0!"}},{"$f":"(I18*5+I17*4+I16*3+I15*2+I14*1)/SUM(I14:I18)","v":{"$error":"#DIV/0!"}},{"$f":"(J18*5+J17*4+J16*3+J15*2+J14*1)/SUM(J14:J18)","v":{"$error":"#DIV/0!"}},{"$f":"(K18*5+K17*4+K16*3+K15*2+K14*1)/SUM(K14:K18)","v":{"$error":"#DIV/0!"}},{"$f":"(L18*5+L17*4+L16*3+L15*2+L14*1)/SUM(L14:L18)","v":{"$error":"#DIV/0!"}},{"$f":"(M18*5+M17*4+M16*3+M15*2+M14*1)/SUM(M14:M18)","v":{"$error":"#DIV/0!"}},{"$f":"(N18*5+N17*4+N16*3+N15*2+N14*1)/SUM(N14:N18)","v":{"$error":"#DIV/0!"}},{"$f":"(O18*5+O17*4+O16*3+O15*2+O14*1)/SUM(O14:O18)","v":{"$error":"#DIV/0!"}},{"$f":"(P18*5+P17*4+P16*3+P15*2+P14*1)/SUM(P14:P18)","v":{"$error":"#DIV/0!"}},{"$f":"(Q18*5+Q17*4+Q16*3+Q15*2+Q14*1)/SUM(Q14:Q18)","v":{"$error":"#DIV/0!"}},{"$f":"(R18*5+R17*4+R16*3+R15*2+R14*1)/SUM(R14:R18)","v":{"$error":"#DIV/0!"}},{"$f":"(S18*5+S17*4+S16*3+S15*2+S14*1)/SUM(S14:S18)","v":{"$error":"#DIV/0!"}},{"$f":"(T18*5+T17*4+T16*3+T15*2+T14*1)/SUM(T14:T18)","v":{"$error":"#DIV/0!"}},{"$f":"(U18*5+U17*4+U16*3+U15*2+U14*1)/SUM(U14:U18)","v":{"$error":"#DIV/0!"}},{"$f":"(V18*5+V17*4+V16*3+V15*2+V14*1)/SUM(V14:V18)","v":{"$error":"#DIV/0!"}},{"$f":"(W18*5+W17*4+W16*3+W15*2+W14*1)/SUM(W14:W18)","v":{"$error":"#DIV/0!"}},{"$f":"(X18*5+X17*4+X16*3+X15*2+X14*1)/SUM(X14:X18)","v":{"$error":"#DIV/0!"}},{"$f":"(Y18*5+Y17*4+Y16*3+Y15*2+Y14*1)/SUM(Y14:Y18)","v":{"$error":"#DIV/0!"}},{"$f":"(Z18*5+Z17*4+Z16*3+Z15*2+Z14*1)/SUM(Z14:Z18)","v":{"$error":"#DIV/0!"}},{"$f":"(AA18*5+AA17*4+AA16*3+AA15*2+AA14*1)/SUM(AA14:AA18)","v":{"$error":"#DIV/0!"}},{"$f":"(AB18*5+AB17*4+AB16*3+AB15*2+AB14*1)/SUM(AB14:AB18)","v":{"$error":"#DIV/0!"}},{"$f":"(AC18*5+AC17*4+AC16*3+AC15*2+AC14*1)/SUM(AC14:AC18)","v":{"$error":"#DIV/0!"}},{"$f":"(AD18*5+AD17*4+AD16*3+AD15*2+AD14*1)/SUM(AD14:AD18)","v":{"$error":"#DIV/0!"}},{"$f":"(AE18*5+AE17*4+AE16*3+AE15*2+AE14*1)/SUM(AE14:AE18)","v":{"$error":"#DIV/0!"}}]
[]
[null,"育成",null,null,null,null,null,null,null,null,null,null,null,null,null,null,"評価"]
[null,"Q17.我が社のOJTでは、教えられる側が自分で考えられるようになることを目指している。",null,null,"Q18.我が社には、スキルシートや社内資格制度で各社員の能力レベルを把握する仕組みがある。",null,null,"Q19.我が社の社員は、自社製の独自のマニュアルや教科書を参照しながら仕事をしている。",null,null,"Q20.我が社では、社員が能力を発揮できるように、設備やITへの投資を積極的に行っている。",null,null,"Q21.我が社では、業務上の能力だけでなく、常識やしつけも教えている。",null,null,"Q22.我が社では、普段から上司に業務報告をすると有益なフィードバックが得られる。",null,null,"Q23.我が社の上司は、普段から社員のモチベーションを気にかけてくれている。",null,null,"Q24.我が社の上司は、普段から「褒める」と「叱る」をメリハリよく使い分けている。",null,null,"Q25.我が社の上司は、普段から部下たちに分け隔てなく接してくれる。",null,null,"Q26.我が社では、挑戦した結果としての失敗で罰せられることはない。"]
[null,"全体","管理職","一般社員","全体","管理職","一般社員","全体","管理職","一般社員","全体","管理職","一般社員","全体","管理職","一般社員","全体","管理職","一般社員","全体","管理職","一般社員","全体","管理職","一般社員","全体","管理職","一般社員","全体","管理職","一般社員"]
["1.あてはまらない",{"$f":"COUNTIF(回答データ一覧!$T:$T,5)","v":0},{"$f":"COUNTIF(管理職!$T:$T,5)","v":0},{"$f":"COUNTIF(一般社員!$T:$T,5)","v":0},{"$f":"COUNTIF(回答データ一覧!$U:$U,5)","v":0},{"$f":"COUNTIF(管理職!$U:$U,5)","v":0},{"$f":"COUNTIF(一般社員!$U:$U,5)","v":0},{"$f":"COUNTIF(回答データ一覧!$V:$V,5)","v":0},{"$f":"COUNTIF(管理職!$V:$V,5)","v":0},{"$f":"COUNTIF(一般社員!$V:$V,5)","v":0},{"$f":"COUNTIF(回答データ一覧!$W:$W,5)","v":0},{"$f":"COUNTIF(管理職!$W:$W,5)","v":0},{"$f":"COUNTIF(一般社員!$W:$W,5)","v":0},{"$f":"COUNTIF(回答データ一覧!$X:$X,5)","v":0},{"$f":"COUNTIF(管理職!$X:$X,5)","v":0},{"$f":"COUNTIF(一般社員!$X:$X,5)","v":0},{"$f":"COUNTIF(回答データ一覧!$Y:$Y,5)","v":0},{"$f":"COUNTIF(管理職!$Y:$Y,5)","v":0},{"$f":"COUNTIF(一般社員!$Y:$Y,5)","v":0},{"$f":"COUNTIF(回答データ一覧!$Z:$Z,5)","v":0},{"$f":"COUNTIF(管理職!$Z:$Z,5)","v":0},{"$f":"COUNTIF(一般社員!$Z:$Z,5)","v":0},{"$f":"COUNTIF(回答データ一覧!$AA:$AA,5)","v":0},{"$f":"COUNTIF(管理職!$AA:$AA,5)","v":0},{"$f":"COUNTIF(一般社員!$AA:$AA,5)","v":0},{"$f":"COUNTIF(回答データ一覧!$AB:$AB,5)","v":0},{"$f":"COUNTIF(管理職!$AB:$AB,5)","v":0},{"$f":"COUNTIF(一般社員!$AB:$AB,5)","v":0},{"$f":"COUNTIF(回答データ一覧!$AC:$AC,5)","v":0},{"$f":"COUNTIF(管理職!$AC:$AC,5)","v":0},{"$f":"COUNTIF(一般社員!$AC:$AC,5)","v":0}]
["2.ややあてはまらない",{"$f":"COUNTIF(回答データ一覧!$T:$T,4)","v":0},{"$f":"COUNTIF(管理職!$T:$T,4)","v":0},{"$f":"COUNTIF(一般社員!$T:$T,4)","v":0},{"$f":"COUNTIF(回答データ一覧!$U:$U,4)","v":0},{"$f":"COUNTIF(管理職!$U:$U,4)","v":0},{"$f":"COUNTIF(一般社員!$U:$U,4)","v":0},{"$f":"COUNTIF(回答データ一覧!$V:$V,4)","v":0},{"$f":"COUNTIF(管理職!$V:$V,4)","v":0},{"$f":"COUNTIF(一般社員!$V:$V,4)","v":0},{"$f":"COUNTIF(回答データ一覧!$W:$W,4)","v":0},{"$f":"COUNTIF(管理職!$W:$W,4)","v":0},{"$f":"COUNTIF(一般社員!$W:$W,4)","v":0},{"$f":"COUNTIF(回答データ一覧!$X:$X,4)","v":0},{"$f":"COUNTIF(管理職!$X:$X,4)","v":0},{"$f":"COUNTIF(一般社員!$X:$X,4)","v":0},{"$f":"COUNTIF(回答データ一覧!$Y:$Y,4)","v":0},{"$f":"COUNTIF(管理職!$Y:$Y,4)","v":0},{"$f":"COUNTIF(一般社員!$Y:$Y,4)","v":0},{"$f":"COUNTIF(回答データ一覧!$Z:$Z,4)","v":0},{"$f":"COUNTIF(管理職!$Z:$Z,4)","v":0},{"$f":"COUNTIF(一般社員!$Z:$Z,4)","v":0},{"$f":"COUNTIF(回答データ一覧!$AA:$AA,4)","v":0},{"$f":"COUNTIF(管理職!$AA:$AA,4)","v":0},{"$f":"COUNTIF(一般社員!$AA:$AA,4)","v":0},{"$f":"COUNTIF(回答データ一覧!$AB:$AB,4)","v":0},{"$f":"COUNTIF(管理職!$AB:$AB,4)","v":0},{"$f":"COUNTIF(一般社員!$AB:$AB,4)","v":0},{"$f":"COUNTIF(回答データ一覧!$AC:$AC,4)","v":0},{"$f":"COUNTIF(管理職!$AC:$AC,4)","v":0},{"$f":"COUNTIF(一般社員!$AC:$AC,4)","v":0}]
["3.どちらとも言えない",{"$f":"COUNTIF(回答データ一覧!$T:$T,3)","v":0},{"$f":"COUNTIF(管理職!$T:$T,3)","v":0},{"$f":"COUNTIF(一般社員!$T:$T,3)","v":0},{"$f":"COUNTIF(回答データ一覧!$U:$U,3)","v":0},{"$f":"COUNTIF(管理職!$U:$U,3)","v":0},{"$f":"COUNTIF(一般社員!$U:$U,3)","v":0},{"$f":"COUNTIF(回答データ一覧!$V:$V,3)","v":0},{"$f":"COUNTIF(管理職!$V:$V,3)","v":0},{"$f":"COUNTIF(一般社員!$V:$V,3)","v":0},{"$f":"COUNTIF(回答データ一覧!$W:$W,3)","v":0},{"$f":"COUNTIF(管理職!$W:$W,3)","v":0},{"$f":"COUNTIF(一般社員!$W:$W,3)","v":0},{"$f":"COUNTIF(回答データ一覧!$X:$X,3)","v":0},{"$f":"COUNTIF(管理職!$X:$X,3)","v":0},{"$f":"COUNTIF(一般社員!$X:$X,3)","v":0},{"$f":"COUNTIF(回答データ一覧!$Y:$Y,3)","v":0},{"$f":"COUNTIF(管理職!$Y:$Y,3)","v":0},{"$f":"COUNTIF(一般社員!$Y:$Y,3)","v":0},{"$f":"COUNTIF(回答データ一覧!$Z:$Z,3)","v":0},{"$f":"COUNTIF(管理職!$Z:$Z,3)","v":0},{"$f":"COUNTIF(一般社員!$Z:$Z,3)","v":0},{"$f":"COUNTIF(回答データ一覧!$AA:$AA,3)","v":0},{"$f":"COUNTIF(管理職!$AA:$AA,3)","v":0},{"$f":"COUNTIF(一般社員!$AA:$AA,3)","v":0},{"$f":"COUNTIF(回答データ一覧!$AB:$AB,3)","v":0},{"$f":"COUNTIF(管理職!$AB:$AB,3)","v":0},{"$f":"COUNTIF(一般社員!$AB:$AB,3)","v":0},{"$f":"COUNTIF(回答データ一覧!$AC:$AC,3)","v":0},{"$f":"COUNTIF(管理職!$AC:$AC,3)","v":0},{"$f":"COUNTIF(一般社員!$AC:$AC,3)","v":0}]
["4.ややあてはまる",{"$f":"COUNTIF(回答データ一覧!$T:$T,2)","v":0},{"$f":"COUNTIF(管理職!$T:$T,2)","v":0},{"$f":"COUNTIF(一般社員!$T:$T,2)","v":0},{"$f":"COUNTIF(回答データ一覧!$U:$U,2)","v":0},{"$f":"COUNTIF(管理職!$U:$U,2)","v":0},{"$f":"COUNTIF(一般社員!$U:$U,2)","v":0},{"$f":"COUNTIF(回答データ一覧!$V:$V,2)","v":0},{"$f":"COUNTIF(管理職!$V:$V,2)","v":0},{"$f":"COUNTIF(一般社員!$V:$V,2)","v":0},{"$f":"COUNTIF(回答データ一覧!$W:$W,2)","v":0},{"$f":"COUNTIF(管理職!$W:$W,2)","v":0},{"$f":"COUNTIF(一般社員!$W:$W,2)","v":0},{"$f":"COUNTIF(回答データ一覧!$X:$X,2)","v":0},{"$f":"COUNTIF(管理職!$X:$X,2)","v":0},{"$f":"COUNTIF(一般社員!$X:$X,2)","v":0},{"$f":"COUNTIF(回答データ一覧!$Y:$Y,2)","v":0},{"$f":"COUNTIF(管理職!$Y:$Y,2)","v":0},{"$f":"COUNTIF(一般社員!$Y:$Y,2)","v":0},{"$f":"COUNTIF(回答データ一覧!$Z:$Z,2)","v":0},{"$f":"COUNTIF(管理職!$Z:$Z,2)","v":0},{"$f":"COUNTIF(一般社員!$Z:$Z,2)","v":0},{"$f":"COUNTIF(回答データ一覧!$AA:$AA,2)","v":0},{"$f":"COUNTIF(管理職!$AA:$AA,2)","v":0},{"$f":"COUNTIF(一般社員!$AA:$AA,2)","v":0},{"$f":"COUNTIF(回答データ一覧!$AB:$AB,2)","v":0},{"$f":"COUNTIF(管理職!$AB:$AB,2)","v":0},{"$f":"COUNTIF(一般社員!$AB:$AB,2)","v":0},{"$f":"COUNTIF(回答データ一覧!$AC:$AC,2)","v":0},{"$f":"COUNTIF(管理職!$AC:$AC,2)","v":0},{"$f":"COUNTIF(一般社員!$AC:$AC,2)","v":0}]
["5.あてはまる",{"$f":"COUNTIF(回答データ一覧!$T:$T,1)","v":0},{"$f":"COUNTIF(管理職!$T:$T,1)","v":0},{"$f":"COUNTIF(一般社員!$T:$T,1)","v":0},{"$f":"COUNTIF(回答データ一覧!$U:$U,1)","v":0},{"$f":"COUNTIF(管理職!$U:$U,1)","v":0},{"$f":"COUNTIF(一般社員!$U:$U,1)","v":0},{"$f":"COUNTIF(回答データ一覧!$V:$V,1)","v":0},{"$f":"COUNTIF(管理職!$V:$V,1)","v":0},{"$f":"COUNTIF(一般社員!$V:$V,1)","v":0},{"$f":"COUNTIF(回答データ一覧!$W:$W,1)","v":0},{"$f":"COUNTIF(管理職!$W:$W,1)","v":0},{"$f":"COUNTIF(一般社員!$W:$W,1)","v":0},{"$f":"COUNTIF(回答データ一覧!$X:$X,1)","v":0},{"$f":"COUNTIF(管理職!$X:$X,1)","v":0},{"$f":"COUNTIF(一般社員!$X:$X,1)","v":0},{"$f":"COUNTIF(回答データ一覧!$Y:$Y,1)","v":0},{"$f":"COUNTIF(管理職!$Y:$Y,1)","v":0},{"$f":"COUNTIF(一般社員!$Y:$Y,1)","v":0},{"$f":"COUNTIF(回答データ一覧!$Z:$Z,1)","v":0},{"$f":"COUNTIF(管理職!$Z:$Z,1)","v":0},{"$f":"COUNTIF(一般社員!$Z:$Z,1)","v":0},{"$f":"COUNTIF(回答データ一覧!$AA:$AA,1)","v":0},{"$f":"COUNTIF(管理職!$AA:$AA,1)","v":0},{"$f":"COUNTIF(一般社員!$AA:$AA,1)","v":0},{"$f":"COUNTIF(回答データ一覧!$AB:$AB,1)","v":0},{"$f":"COUNTIF(管理職!$AB:$AB,1)","v":0},{"$f":"COUNTIF(一般社員!$AB:$AB,1)","v":0},{"$f":"COUNTIF(回答データ一覧!$AC:$AC,1)","v":0},{"$f":"COUNTIF(管理職!$AC:$AC,1)","v":0},{"$f":"COUNTIF(一般社員!$AC:$AC,1)","v":0}]
["平均",{"$f":"(B28*5+B27*4+B26*3+B25*2+B24*1)/SUM(B24:B28)","v":{"$error":"#DIV/0!"}},{"$f":"(C28*5+C27*4+C26*3+C25*2+C24*1)/SUM(C24:C28)","v":{"$error":"#DIV/0!"}},{"$f":"(D28*5+D27*4+D26*3+D25*2+D24*1)/SUM(D24:D28)","v":{"$error":"#DIV/0!"}},{"$f":"(E28*5+E27*4+E26*3+E25*2+E24*1)/SUM(E24:E28)","v":{"$error":"#DIV/0!"}},{"$f":"(F28*5+F27*4+F26*3+F25*2+F24*1)/SUM(F24:F28)","v":{"$error":"#DIV/0!"}},{"$f":"(G28*5+G27*4+G26*3+G25*2+G24*1)/SUM(G24:G28)","v":{"$error":"#DIV/0!"}},{"$f":"(H28*5+H27*4+H26*3+H25*2+H24*1)/SUM(H24:H28)","v":{"$error":"#DIV/0!"}},{"$f":"(I28*5+I27*4+I26*3+I25*2+I24*1)/SUM(I24:I28)","v":{"$error":"#DIV/0!"}},{"$f":"(J28*5+J27*4+J26*3+J25*2+J24*1)/SUM(J24:J28)","v":{"$error":"#DIV/0!"}},{"$f":"(K28*5+K27*4+K26*3+K25*2+K24*1)/SUM(K24:K28)","v":{"$error":"#DIV/0!"}},{"$f":"(L28*5+L27*4+L26*3+L25*2+L24*1)/SUM(L24:L28)","v":{"$error":"#DIV/0!"}},{"$f":"(M28*5+M27*4+M26*3+M25*2+M24*1)/SUM(M24:M28)","v":{"$error":"#DIV/0!"}},{"$f":"(N28*5+N27*4+N26*3+N25*2+N24*1)/SUM(N24:N28)","v":{"$error":"#DIV/0!"}},{"$f":"(O28*5+O27*4+O26*3+O25*2+O24*1)/SUM(O24:O28)","v":{"$error":"#DIV/0!"}},{"$f":"(P28*5+P27*4+P26*3+P25*2+P24*1)/SUM(P24:P28)","v":{"$error":"#DIV/0!"}},{"$f":"(Q28*5+Q27*4+Q26*3+Q25*2+Q24*1)/SUM(Q24:Q28)","v":{"$error":"#DIV/0!"}},{"$f":"(R28*5+R27*4+R26*3+R25*2+R24*1)/SUM(R24:R28)","v":{"$error":"#DIV/0!"}},{"$f":"(S28*5+S27*4+S26*3+S25*2+S24*1)/SUM(S24:S28)","v":{"$error":"#DIV/0!"}},{"$f":"(T28*5+T27*4+T26*3+T25*2+T24*1)/SUM(T24:T28)","v":{"$error":"#DIV/0!"}},{"$f":"(U28*5+U27*4+U26*3+U25*2+U24*1)/SUM(U24:U28)","v":{"$error":"#DIV/0!"}},{"$f":"(V28*5+V27*4+V26*3+V25*2+V24*1)/SUM(V24:V28)","v":{"$error":"#DIV/0!"}},{"$f":"(W28*5+W27*4+W26*3+W25*2+W24*1)/SUM(W24:W28)","v":{"$error":"#DIV/0!"}},{"$f":"(X28*5+X27*4+X26*3+X25*2+X24*1)/SUM(X24:X28)","v":{"$error":"#DIV/0!"}},{"$f":"(Y28*5+Y27*4+Y26*3+Y25*2+Y24*1)/SUM(Y24:Y28)","v":{"$error":"#DIV/0!"}},{"$f":"(Z28*5+Z27*4+Z26*3+Z25*2+Z24*1)/SUM(Z24:Z28)","v":{"$error":"#DIV/0!"}},{"$f":"(AA28*5+AA27*4+AA26*3+AA25*2+AA24*1)/SUM(AA24:AA28)","v":{"$error":"#DIV/0!"}},{"$f":"(AB28*5+AB27*4+AB26*3+AB25*2+AB24*1)/SUM(AB24:AB28)","v":{"$error":"#DIV/0!"}},{"$f":"(AC28*5+AC27*4+AC26*3+AC25*2+AC24*1)/SUM(AC24:AC28)","v":{"$error":"#DIV/0!"}},{"$f":"(AD28*5+AD27*4+AD26*3+AD25*2+AD24*1)/SUM(AD24:AD28)","v":{"$error":"#DIV/0!"}},{"$f":"(AE28*5+AE27*4+AE26*3+AE25*2+AE24*1)/SUM(AE24:AE28)","v":{"$error":"#DIV/0!"}}]
[]
[null,"経営理念",null,null,null,null,null,null,null,null,null,null,null,null,null,null,"水平連携"]
[null,"Q27.我が社の社員は、経営理念の内容をよく覚えている。",null,null,"Q28.我が社には、経営陣の仕事ぶりや人柄を語るのに欠かせない仕事上の武勇伝がある。",null,null,"Q29.我が社には、伝説・語り草となっている仕事・プロジェクト・案件がある。",null,null,"Q30.我が社の経営陣は、社員に対して経営理念の内容を繰り返し説明している。",null,null,"Q31.我が社の上司は、部下に対して経営理念の内容を自分の言葉で説明している。",null,null,"Q32.我が社では、同じ部門で困っている同僚を積極的に助けている。",null,null,"Q33.我が社では、成功事例や仕事のコツを共有するための社内勉強会が頻繁に開かれる。",null,null,"Q34.我が社では、自部門の目標を他部門と協力しながら達成している。",null,null,"Q35.我が社では、経営課題を解決するための部門横断的なプロジェクトチームが機能している。",null,null,"Q36.我が社では、業務外の部門横断的な委員会活動などが盛んである。"]
[null,"全体","管理職","一般社員","全体","管理職","一般社員","全体","管理職","一般社員","全体","管理職","一般社員","全体","管理職","一般社員","全体","管理職","一般社員","全体","管理職","一般社員","全体","管理職","一般社員","全体","管理職","一般社員","全体","管理職","一般社員"]
["1.あてはまらない",{"$f":"COUNTIF(回答データ一覧!$AD:$AD,5)","v":0},{"$f":"COUNTIF(管理職!$AD:$AD,5)","v":0},{"$f":"COUNTIF(一般社員!$AD:$AD,5)","v":0},{"$f":"COUNTIF(回答データ一覧!$AE:$AE,5)","v":0},{"$f":"COUNTIF(管理職!$AE:$AE,5)","v":0},{"$f":"COUNTIF(一般社員!$AE:$AE,5)","v":0},{"$f":"COUNTIF(回答データ一覧!$AF:$AF,5)","v":0},{"$f":"COUNTIF(管理職!$AF:$AF,5)","v":0},{"$f":"COUNTIF(一般社員!$AF:$AF,5)","v":0},{"$f":"COUNTIF(回答データ一覧!$AG:$AG,5)","v":0},{"$f":"COUNTIF(管理職!$AG:$AG,5)","v":0},{"$f":"COUNTIF(一般社員!$AG:$AG,5)","v":0},{"$f":"COUNTIF(回答データ一覧!$AH:$AH,5)","v":0},{"$f":"COUNTIF(管理職!$AH:$AH,5)","v":0},{"$f":"COUNTIF(一般社員!$AH:$AH,5)","v":0},{"$f":"COUNTIF(回答データ一覧!$AI:$AI,5)","v":0},{"$f":"COUNTIF(管理職!$AI:$AI,5)","v":0},{"$f":"COUNTIF(一般社員!$AI:$AI,5)","v":0},{"$f":"COUNTIF(回答データ一覧!$AJ:$AJ,5)","v":0},{"$f":"COUNTIF(管理職!$AJ:$AJ,5)","v":0},{"$f":"COUNTIF(一般社員!$AJ:$AJ,5)","v":0},{"$f":"COUNTIF(回答データ一覧!$AK:$AK,5)","v":0},{"$f":"COUNTIF(管理職!$AK:$AK,5)","v":0},{"$f":"COUNTIF(一般社員!$AK:$AK,5)","v":0},{"$f":"COUNTIF(回答データ一覧!$AL:$AL,5)","v":0},{"$f":"COUNTIF(管理職!$AL:$AL,5)","v":0},{"$f":"COUNTIF(一般社員!$AL:$AL,5)","v":0},{"$f":"COUNTIF(回答データ一覧!$AM:$AM,5)","v":0},{"$f":"COUNTIF(管理職!$AM:$AM,5)","v":0},{"$f":"COUNTIF(一般社員!$AM:$AM,5)","v":0}]
["2.ややあてはまらない",{"$f":"COUNTIF(回答データ一覧!$AD:$AD,4)","v":0},{"$f":"COUNTIF(管理職!$AD:$AD,4)","v":0},{"$f":"COUNTIF(一般社員!$AD:$AD,4)","v":0},{"$f":"COUNTIF(回答データ一覧!$AE:$AE,4)","v":0},{"$f":"COUNTIF(管理職!$AE:$AE,4)","v":0},{"$f":"COUNTIF(一般社員!$AE:$AE,4)","v":0},{"$f":"COUNTIF(回答データ一覧!$AF:$AF,4)","v":0},{"$f":"COUNTIF(管理職!$AF:$AF,4)","v":0},{"$f":"COUNTIF(一般社員!$AF:$AF,4)","v":0},{"$f":"COUNTIF(回答データ一覧!$AG:$AG,4)","v":0},{"$f":"COUNTIF(管理職!$AG:$AG,4)","v":0},{"$f":"COUNTIF(一般社員!$AG:$AG,4)","v":0},{"$f":"COUNTIF(回答データ一覧!$AH:$AH,4)","v":0},{"$f":"COUNTIF(管理職!$AH:$AH,4)","v":0},{"$f":"COUNTIF(一般社員!$AH:$AH,4)","v":0},{"$f":"COUNTIF(回答データ一覧!$AI:$AI,4)","v":0},{"$f":"COUNTIF(管理職!$AI:$AI,4)","v":0},{"$f":"COUNTIF(一般社員!$AI:$AI,4)","v":0},{"$f":"COUNTIF(回答データ一覧!$AJ:$AJ,4)","v":0},{"$f":"COUNTIF(管理職!$AJ:$AJ,4)","v":0},{"$f":"COUNTIF(一般社員!$AJ:$AJ,4)","v":0},{"$f":"COUNTIF(回答データ一覧!$AK:$AK,4)","v":0},{"$f":"COUNTIF(管理職!$AK:$AK,4)","v":0},{"$f":"COUNTIF(一般社員!$AK:$AK,4)","v":0},{"$f":"COUNTIF(回答データ一覧!$AL:$AL,4)","v":0},{"$f":"COUNTIF(管理職!$AL:$AL,4)","v":0},{"$f":"COUNTIF(一般社員!$AL:$AL,4)","v":0},{"$f":"COUNTIF(回答データ一覧!$AM:$AM,4)","v":0},{"$f":"COUNTIF(管理職!$AM:$AM,4)","v":0},{"$f":"COUNTIF(一般社員!$AM:$AM,4)","v":0}]
["3.どちらとも言えない",{"$f":"COUNTIF(回答データ一覧!$AD:$AD,3)","v":0},{"$f":"COUNTIF(管理職!$AD:$AD,3)","v":0},{"$f":"COUNTIF(一般社員!$AD:$AD,3)","v":0},{"$f":"COUNTIF(回答データ一覧!$AE:$AE,3)","v":0},{"$f":"COUNTIF(管理職!$AE:$AE,3)","v":0},{"$f":"COUNTIF(一般社員!$AE:$AE,3)","v":0},{"$f":"COUNTIF(回答データ一覧!$AF:$AF,3)","v":0},{"$f":"COUNTIF(管理職!$AF:$AF,3)","v":0},{"$f":"COUNTIF(一般社員!$AF:$AF,3)","v":0},{"$f":"COUNTIF(回答データ一覧!$AG:$AG,3)","v":0},{"$f":"COUNTIF(管理職!$AG:$AG,3)","v":0},{"$f":"COUNTIF(一般社員!$AG:$AG,3)","v":0},{"$f":"COUNTIF(回答データ一覧!$AH:$AH,3)","v":0},{"$f":"COUNTIF(管理職!$AH:$AH,3)","v":0},{"$f":"COUNTIF(一般社員!$AH:$AH,3)","v":0},{"$f":"COUNTIF(回答データ一覧!$AI:$AI,3)","v":0},{"$f":"COUNTIF(管理職!$AI:$AI,3)","v":0},{"$f":"COUNTIF(一般社員!$AI:$AI,3)","v":0},{"$f":"COUNTIF(回答データ一覧!$AJ:$AJ,3)","v":0},{"$f":"COUNTIF(管理職!$AJ:$AJ,3)","v":0},{"$f":"COUNTIF(一般社員!$AJ:$AJ,3)","v":0},{"$f":"COUNTIF(回答データ一覧!$AK:$AK,3)","v":0},{"$f":"COUNTIF(管理職!$AK:$AK,3)","v":0},{"$f":"COUNTIF(一般社員!$AK:$AK,3)","v":0},{"$f":"COUNTIF(回答データ一覧!$AL:$AL,3)","v":0},{"$f":"COUNTIF(管理職!$AL:$AL,3)","v":0},{"$f":"COUNTIF(一般社員!$AL:$AL,3)","v":0},{"$f":"COUNTIF(回答データ一覧!$AM:$AM,3)","v":0},{"$f":"COUNTIF(管理職!$AM:$AM,3)","v":0},{"$f":"COUNTIF(一般社員!$AM:$AM,3)","v":0}]
["4.ややあてはまる",{"$f":"COUNTIF(回答データ一覧!$AD:$AD,2)","v":0},{"$f":"COUNTIF(管理職!$AD:$AD,2)","v":0},{"$f":"COUNTIF(一般社員!$AD:$AD,2)","v":0},{"$f":"COUNTIF(回答データ一覧!$AE:$AE,2)","v":0},{"$f":"COUNTIF(管理職!$AE:$AE,2)","v":0},{"$f":"COUNTIF(一般社員!$AE:$AE,2)","v":0},{"$f":"COUNTIF(回答データ一覧!$AF:$AF,2)","v":0},{"$f":"COUNTIF(管理職!$AF:$AF,2)","v":0},{"$f":"COUNTIF(一般社員!$AF:$AF,2)","v":0},{"$f":"COUNTIF(回答データ一覧!$AG:$AG,2)","v":0},{"$f":"COUNTIF(管理職!$AG:$AG,2)","v":0},{"$f":"COUNTIF(一般社員!$AG:$AG,2)","v":0},{"$f":"COUNTIF(回答データ一覧!$AH:$AH,2)","v":0},{"$f":"COUNTIF(管理職!$AH:$AH,2)","v":0},{"$f":"COUNTIF(一般社員!$AH:$AH,2)","v":0},{"$f":"COUNTIF(回答データ一覧!$AI:$AI,2)","v":0},{"$f":"COUNTIF(管理職!$AI:$AI,2)","v":0},{"$f":"COUNTIF(一般社員!$AI:$AI,2)","v":0},{"$f":"COUNTIF(回答データ一覧!$AJ:$AJ,2)","v":0},{"$f":"COUNTIF(管理職!$AJ:$AJ,2)","v":0},{"$f":"COUNTIF(一般社員!$AJ:$AJ,2)","v":0},{"$f":"COUNTIF(回答データ一覧!$AK:$AK,2)","v":0},{"$f":"COUNTIF(管理職!$AK:$AK,2)","v":0},{"$f":"COUNTIF(一般社員!$AK:$AK,2)","v":0},{"$f":"COUNTIF(回答データ一覧!$AL:$AL,2)","v":0},{"$f":"COUNTIF(管理職!$AL:$AL,2)","v":0},{"$f":"COUNTIF(一般社員!$AL:$AL,2)","v":0},{"$f":"COUNTIF(回答データ一覧!$AM:$AM,2)","v":0},{"$f":"COUNTIF(管理職!$AM:$AM,2)","v":0},{"$f":"COUNTIF(一般社員!$AM:$AM,2)","v":0}]
["5.あてはまる",{"$f":"COUNTIF(回答データ一覧!$AD:$AD,1)","v":0},{"$f":"COUNTIF(管理職!$AD:$AD,1)","v":0},{"$f":"COUNTIF(一般社員!$AD:$AD,1)","v":0},{"$f":"COUNTIF(回答データ一覧!$AE:$AE,1)","v":0},{"$f":"COUNTIF(管理職!$AE:$AE,1)","v":0},{"$f":"COUNTIF(一般社員!$AE:$AE,1)","v":0},{"$f":"COUNTIF(回答データ一覧!$AF:$AF,1)","v":0},{"$f":"COUNTIF(管理職!$AF:$AF,1)","v":0},{"$f":"COUNTIF(一般社員!$AF:$AF,1)","v":0},{"$f":"COUNTIF(回答データ一覧!$AG:$AG,1)","v":0},{"$f":"COUNTIF(管理職!$AG:$AG,1)","v":0},{"$f":"COUNTIF(一般社員!$AG:$AG,1)","v":0},{"$f":"COUNTIF(回答データ一覧!$AH:$AH,1)","v":0},{"$f":"COUNTIF(管理職!$AH:$AH,1)","v":0},{"$f":"COUNTIF(一般社員!$AH:$AH,1)","v":0},{"$f":"COUNTIF(回答データ一覧!$AI:$AI,1)","v":0},{"$f":"COUNTIF(管理職!$AI:$AI,1)","v":0},{"$f":"COUNTIF(一般社員!$AI:$AI,1)","v":0},{"$f":"COUNTIF(回答データ一覧!$AJ:$AJ,1)","v":0},{"$f":"COUNTIF(管理職!$AJ:$AJ,1)","v":0},{"$f":"COUNTIF(一般社員!$AJ:$AJ,1)","v":0},{"$f":"COUNTIF(回答データ一覧!$AK:$AK,1)","v":0},{"$f":"COUNTIF(管理職!$AK:$AK,1)","v":0},{"$f":"COUNTIF(一般社員!$AK:$AK,1)","v":0},{"$f":"COUNTIF(回答データ一覧!$AL:$AL,1)","v":0},{"$f":"COUNTIF(管理職!$AL:$AL,1)","v":0},{"$f":"COUNTIF(一般社員!$AL:$AL,1)","v":0},{"$f":"COUNTIF(回答データ一覧!$AM:$AM,1)","v":0},{"$f":"COUNTIF(管理職!$AM:$AM,1)","v":0},{"$f":"COUNTIF(一般社員!$AM:$AM,1)","v":0}]
["平均",{"$f":"(B38*5+B37*4+B36*3+B35*2+B34*1)/SUM(B34:B38)","v":{"$error":"#DIV/0!"}},{"$f":"(C38*5+C37*4+C36*3+C35*2+C34*1)/SUM(C34:C38)","v":{"$error":"#DIV/0!"}},{"$f":"(D38*5+D37*4+D36*3+D35*2+D34*1)/SUM(D34:D38)","v":{"$error":"#DIV/0!"}},{"$f":"(E38*5+E37*4+E36*3+E35*2+E34*1)/SUM(E34:E38)","v":{"$error":"#DIV/0!"}},{"$f":"(F38*5+F37*4+F36*3+F35*2+F34*1)/SUM(F34:F38)","v":{"$error":"#DIV/0!"}},{"$f":"(G38*5+G37*4+G36*3+G35*2+G34*1)/SUM(G34:G38)","v":{"$error":"#DIV/0!"}},{"$f":"(H38*5+H37*4+H36*3+H35*2+H34*1)/SUM(H34:H38)","v":{"$error":"#DIV/0!"}},{"$f":"(I38*5+I37*4+I36*3+I35*2+I34*1)/SUM(I34:I38)","v":{"$error":"#DIV/0!"}},{"$f":"(J38*5+J37*4+J36*3+J35*2+J34*1)/SUM(J34:J38)","v":{"$error":"#DIV/0!"}},{"$f":"(K38*5+K37*4+K36*3+K35*2+K34*1)/SUM(K34:K38)","v":{"$error":"#DIV/0!"}},{"$f":"(L38*5+L37*4+L36*3+L35*2+L34*1)/SUM(L34:L38)","v":{"$error":"#DIV/0!"}},{"$f":"(M38*5+M37*4+M36*3+M35*2+M34*1)/SUM(M34:M38)","v":{"$error":"#DIV/0!"}},{"$f":"(N38*5+N37*4+N36*3+N35*2+N34*1)/SUM(N34:N38)","v":{"$error":"#DIV/0!"}},{"$f":"(O38*5+O37*4+O36*3+O35*2+O34*1)/SUM(O34:O38)","v":{"$error":"#DIV/0!"}},{"$f":"(P38*5+P37*4+P36*3+P35*2+P34*1)/SUM(P34:P38)","v":{"$error":"#DIV/0!"}},{"$f":"(Q38*5+Q37*4+Q36*3+Q35*2+Q34*1)/SUM(Q34:Q38)","v":{"$error":"#DIV/0!"}},{"$f":"(R38*5+R37*4+R36*3+R35*2+R34*1)/SUM(R34:R38)","v":{"$error":"#DIV/0!"}},{"$f":"(S38*5+S37*4+S36*3+S35*2+S34*1)/SUM(S34:S38)","v":{"$error":"#DIV/0!"}},{"$f":"(T38*5+T37*4+T36*3+T35*2+T34*1)/SUM(T34:T38)","v":{"$error":"#DIV/0!"}},{"$f":"(U38*5+U37*4+U36*3+U35*2+U34*1)/SUM(U34:U38)","v":{"$error":"#DIV/0!"}},{"$f":"(V38*5+V37*4+V36*3+V35*2+V34*1)/SUM(V34:V38)","v":{"$error":"#DIV/0!"}},{"$f":"(W38*5+W37*4+W36*3+W35*2+W34*1)/SUM(W34:W38)","v":{"$error":"#DIV/0!"}},{"$f":"(X38*5+X37*4+X36*3+X35*2+X34*1)/SUM(X34:X38)","v":{"$error":"#DIV/0!"}},{"$f":"(Y38*5+Y37*4+Y36*3+Y35*2+Y34*1)/SUM(Y34:Y38)","v":{"$error":"#DIV/0!"}},{"$f":"(Z38*5+Z37*4+Z36*3+Z35*2+Z34*1)/SUM(Z34:Z38)","v":{"$error":"#DIV/0!"}},{"$f":"(AA38*5+AA37*4+AA36*3+AA35*2+AA34*1)/SUM(AA34:AA38)","v":{"$error":"#DIV/0!"}},{"$f":"(AB38*5+AB37*4+AB36*3+AB35*2+AB34*1)/SUM(AB34:AB38)","v":{"$error":"#DIV/0!"}},{"$f":"(AC38*5+AC37*4+AC36*3+AC35*2+AC34*1)/SUM(AC34:AC38)","v":{"$error":"#DIV/0!"}},{"$f":"(AD38*5+AD37*4+AD36*3+AD35*2+AD34*1)/SUM(AD34:AD38)","v":{"$error":"#DIV/0!"}},{"$f":"(AE38*5+AE37*4+AE36*3+AE35*2+AE34*1)/SUM(AE34:AE38)","v":{"$error":"#DIV/0!"}}]
[]
[null,"創発的学習",null,null,null,null,null,null,null,null,null,null,null,null,null,null,"多様性尊重"]
[null,"Q37.我が社では、経営理念の実践方法を現場で議論する機会が多い。",null,null,"Q38.我が社では、経営上の具体的な数値の改善策を現場で議論する機会が多い。",null,null,"Q39.我が社では、上司より優秀な部下を育成することが奨励されている。",null,null,"Q40.我が社では、現場の悪い情報はすぐに上層部に吸い上げられる。",null,null,"Q41.我が社の朝礼や会議では、若手社員や年次の浅い社員が積極的に発言する。",null,null,"Q42.我が社では、女性社員の意見が新製品・サービスの開発に反映されている。",null,null,"Q43.我が社の現場のノウハウやマニュアルには、シニア社員の知恵が融合されている。",null,null,"Q44.我が社は、社員、顧客、取引先にいる外国人の価値観を自社の組織文化に取り込んでいる。",null,null,"Q45.我が社では、設備の配置・操作方法や仕事の手順を障害者の特性に合わせて工夫している。",null,null,"Q46.我が社では、非正規社員が職場改善運動に積極的に参画している。"]
[null,"全体","管理職","一般社員","全体","管理職","一般社員","全体","管理職","一般社員","全体","管理職","一般社員","全体","管理職","一般社員","全体","管理職","一般社員","全体","管理職","一般社員","全体","管理職","一般社員","全体","管理職","一般社員","全体","管理職","一般社員"]
["1.あてはまらない",{"$f":"COUNTIF(回答データ一覧!$AN:$AN,5)","v":0},{"$f":"COUNTIF(管理職!$AN:$AN,5)","v":0},{"$f":"COUNTIF(一般社員!$AN:$AN,5)","v":0},{"$f":"COUNTIF(回答データ一覧!$AO:$AO,5)","v":0},{"$f":"COUNTIF(管理職!$AO:$AO,5)","v":0},{"$f":"COUNTIF(一般社員!$AO:$AO,5)","v":0},{"$f":"COUNTIF(回答データ一覧!$AP:$AP,5)","v":0},{"$f":"COUNTIF(管理職!$AP:$AP,5)","v":0},{"$f":"COUNTIF(一般社員!$AP:$AP,5)","v":0},{"$f":"COUNTIF(回答データ一覧!$AQ:$AQ,5)","v":0},{"$f":"COUNTIF(管理職!$AQ:$AQ,5)","v":0},{"$f":"COUNTIF(一般社員!$AQ:$AQ,5)","v":0},{"$f":"COUNTIF(回答データ一覧!$AR:$AR,5)","v":0},{"$f":"COUNTIF(管理職!$AR:$AR,5)","v":0},{"$f":"COUNTIF(一般社員!$AR:$AR,5)","v":0},{"$f":"COUNTIF(回答データ一覧!$AS:$AS,5)","v":0},{"$f":"COUNTIF(管理職!$AS:$AS,5)","v":0},{"$f":"COUNTIF(一般社員!$AS:$AS,5)","v":0},{"$f":"COUNTIF(回答データ一覧!$AT:$AT,5)","v":0},{"$f":"COUNTIF(管理職!$AT:$AT,5)","v":0},{"$f":"COUNTIF(一般社員!$AT:$AT,5)","v":0},{"$f":"COUNTIF(回答データ一覧!$AU:$AU,5)","v":0},{"$f":"COUNTIF(管理職!$AU:$AU,5)","v":0},{"$f":"COUNTIF(一般社員!$AU:$AU,5)","v":0},{"$f":"COUNTIF(回答データ一覧!$AV:$AV,5)","v":0},{"$f":"COUNTIF(管理職!$AV:$AV,5)","v":0},{"$f":"COUNTIF(一般社員!$AV:$AV,5)","v":0},{"$f":"COUNTIF(回答データ一覧!$AW:$AW,5)","v":0},{"$f":"COUNTIF(管理職!$AW:$AW,5)","v":0},{"$f":"COUNTIF(一般社員!$AW:$AW,5)","v":0}]
["2.ややあてはまらない",{"$f":"COUNTIF(回答データ一覧!$AN:$AN,4)","v":0},{"$f":"COUNTIF(管理職!$AN:$AN,4)","v":0},{"$f":"COUNTIF(一般社員!$AN:$AN,4)","v":0},{"$f":"COUNTIF(回答データ一覧!$AO:$AO,4)","v":0},{"$f":"COUNTIF(管理職!$AO:$AO,4)","v":0},{"$f":"COUNTIF(一般社員!$AO:$AO,4)","v":0},{"$f":"COUNTIF(回答データ一覧!$AP:$AP,4)","v":0},{"$f":"COUNTIF(管理職!$AP:$AP,4)","v":0},{"$f":"COUNTIF(一般社員!$AP:$AP,4)","v":0},{"$f":"COUNTIF(回答データ一覧!$AQ:$AQ,4)","v":0},{"$f":"COUNTIF(管理職!$AQ:$AQ,4)","v":0},{"$f":"COUNTIF(一般社員!$AQ:$AQ,4)","v":0},{"$f":"COUNTIF(回答データ一覧!$AR:$AR,4)","v":0},{"$f":"COUNTIF(管理職!$AR:$AR,4)","v":0},{"$f":"COUNTIF(一般社員!$AR:$AR,4)","v":0},{"$f":"COUNTIF(回答データ一覧!$AS:$AS,4)","v":0},{"$f":"COUNTIF(管理職!$AS:$AS,4)","v":0},{"$f":"COUNTIF(一般社員!$AS:$AS,4)","v":0},{"$f":"COUNTIF(回答データ一覧!$AT:$AT,4)","v":0},{"$f":"COUNTIF(管理職!$AT:$AT,4)","v":0},{"$f":"COUNTIF(一般社員!$AT:$AT,4)","v":0},{"$f":"COUNTIF(回答データ一覧!$AU:$AU,4)","v":0},{"$f":"COUNTIF(管理職!$AU:$AU,4)","v":0},{"$f":"COUNTIF(一般社員!$AU:$AU,4)","v":0},{"$f":"COUNTIF(回答データ一覧!$AV:$AV,4)","v":0},{"$f":"COUNTIF(管理職!$AV:$AV,4)","v":0},{"$f":"COUNTIF(一般社員!$AV:$AV,4)","v":0},{"$f":"COUNTIF(回答データ一覧!$AW:$AW,4)","v":0},{"$f":"COUNTIF(管理職!$AW:$AW,4)","v":0},{"$f":"COUNTIF(一般社員!$AW:$AW,4)","v":0}]
["3.どちらとも言えない",{"$f":"COUNTIF(回答データ一覧!$AN:$AN,3)","v":0},{"$f":"COUNTIF(管理職!$AN:$AN,3)","v":0},{"$f":"COUNTIF(一般社員!$AN:$AN,3)","v":0},{"$f":"COUNTIF(回答データ一覧!$AO:$AO,3)","v":0},{"$f":"COUNTIF(管理職!$AO:$AO,3)","v":0},{"$f":"COUNTIF(一般社員!$AO:$AO,3)","v":0},{"$f":"COUNTIF(回答データ一覧!$AP:$AP,3)","v":0},{"$f":"COUNTIF(管理職!$AP:$AP,3)","v":0},{"$f":"COUNTIF(一般社員!$AP:$AP,3)","v":0},{"$f":"COUNTIF(回答データ一覧!$AQ:$AQ,3)","v":0},{"$f":"COUNTIF(管理職!$AQ:$AQ,3)","v":0},{"$f":"COUNTIF(一般社員!$AQ:$AQ,3)","v":0},{"$f":"COUNTIF(回答データ一覧!$AR:$AR,3)","v":0},{"$f":"COUNTIF(管理職!$AR:$AR,3)","v":0},{"$f":"COUNTIF(一般社員!$AR:$AR,3)","v":0},{"$f":"COUNTIF(回答データ一覧!$AS:$AS,3)","v":0},{"$f":"COUNTIF(管理職!$AS:$AS,3)","v":0},{"$f":"COUNTIF(一般社員!$AS:$AS,3)","v":0},{"$f":"COUNTIF(回答データ一覧!$AT:$AT,3)","v":0},{"$f":"COUNTIF(管理職!$AT:$AT,3)","v":0},{"$f":"COUNTIF(一般社員!$AT:$AT,3)","v":0},{"$f":"COUNTIF(回答データ一覧!$AU:$AU,3)","v":0},{"$f":"COUNTIF(管理職!$AU:$AU,3)","v":0},{"$f":"COUNTIF(一般社員!$AU:$AU,3)","v":0},{"$f":"COUNTIF(回答データ一覧!$AV:$AV,3)","v":0},{"$f":"COUNTIF(管理職!$AV:$AV,3)","v":0},{"$f":"COUNTIF(一般社員!$AV:$AV,3)","v":0},{"$f":"COUNTIF(回答データ一覧!$AW:$AW,3)","v":0},{"$f":"COUNTIF(管理職!$AW:$AW,3)","v":0},{"$f":"COUNTIF(一般社員!$AW:$AW,3)","v":0}]
["4.ややあてはまる",{"$f":"COUNTIF(回答データ一覧!$AN:$AN,2)","v":0},{"$f":"COUNTIF(管理職!$AN:$AN,2)","v":0},{"$f":"COUNTIF(一般社員!$AN:$AN,2)","v":0},{"$f":"COUNTIF(回答データ一覧!$AO:$AO,2)","v":0},{"$f":"COUNTIF(管理職!$AO:$AO,2)","v":0},{"$f":"COUNTIF(一般社員!$AO:$AO,2)","v":0},{"$f":"COUNTIF(回答データ一覧!$AP:$AP,2)","v":0},{"$f":"COUNTIF(管理職!$AP:$AP,2)","v":0},{"$f":"COUNTIF(一般社員!$AP:$AP,2)","v":0},{"$f":"COUNTIF(回答データ一覧!$AQ:$AQ,2)","v":0},{"$f":"COUNTIF(管理職!$AQ:$AQ,2)","v":0},{"$f":"COUNTIF(一般社員!$AQ:$AQ,2)","v":0},{"$f":"COUNTIF(回答データ一覧!$AR:$AR,2)","v":0},{"$f":"COUNTIF(管理職!$AR:$AR,2)","v":0},{"$f":"COUNTIF(一般社員!$AR:$AR,2)","v":0},{"$f":"COUNTIF(回答データ一覧!$AS:$AS,2)","v":0},{"$f":"COUNTIF(管理職!$AS:$AS,2)","v":0},{"$f":"COUNTIF(一般社員!$AS:$AS,2)","v":0},{"$f":"COUNTIF(回答データ一覧!$AT:$AT,2)","v":0},{"$f":"COUNTIF(管理職!$AT:$AT,2)","v":0},{"$f":"COUNTIF(一般社員!$AT:$AT,2)","v":0},{"$f":"COUNTIF(回答データ一覧!$AU:$AU,2)","v":0},{"$f":"COUNTIF(管理職!$AU:$AU,2)","v":0},{"$f":"COUNTIF(一般社員!$AU:$AU,2)","v":0},{"$f":"COUNTIF(回答データ一覧!$AV:$AV,2)","v":0},{"$f":"COUNTIF(管理職!$AV:$AV,2)","v":0},{"$f":"COUNTIF(一般社員!$AV:$AV,2)","v":0},{"$f":"COUNTIF(回答データ一覧!$AW:$AW,2)","v":0},{"$f":"COUNTIF(管理職!$AW:$AW,2)","v":0},{"$f":"COUNTIF(一般社員!$AW:$AW,2)","v":0}]
["5.あてはまる",{"$f":"COUNTIF(回答データ一覧!$AN:$AN,1)","v":0},{"$f":"COUNTIF(管理職!$AN:$AN,1)","v":0},{"$f":"COUNTIF(一般社員!$AN:$AN,1)","v":0},{"$f":"COUNTIF(回答データ一覧!$AO:$AO,1)","v":0},{"$f":"COUNTIF(管理職!$AO:$AO,1)","v":0},{"$f":"COUNTIF(一般社員!$AO:$AO,1)","v":0},{"$f":"COUNTIF(回答データ一覧!$AP:$AP,1)","v":0},{"$f":"COUNTIF(管理職!$AP:$AP,1)","v":0},{"$f":"COUNTIF(一般社員!$AP:$AP,1)","v":0},{"$f":"COUNTIF(回答データ一覧!$AQ:$AQ,1)","v":0},{"$f":"COUNTIF(管理職!$AQ:$AQ,1)","v":0},{"$f":"COUNTIF(一般社員!$AQ:$AQ,1)","v":0},{"$f":"COUNTIF(回答データ一覧!$AR:$AR,1)","v":0},{"$f":"COUNTIF(管理職!$AR:$AR,1)","v":0},{"$f":"COUNTIF(一般社員!$AR:$AR,1)","v":0},{"$f":"COUNTIF(回答データ一覧!$AS:$AS,1)","v":0},{"$f":"COUNTIF(管理職!$AS:$AS,1)","v":0},{"$f":"COUNTIF(一般社員!$AS:$AS,1)","v":0},{"$f":"COUNTIF(回答データ一覧!$AT:$AT,1)","v":0},{"$f":"COUNTIF(管理職!$AT:$AT,1)","v":0},{"$f":"COUNTIF(一般社員!$AT:$AT,1)","v":0},{"$f":"COUNTIF(回答データ一覧!$AU:$AU,1)","v":0},{"$f":"COUNTIF(管理職!$AU:$AU,1)","v":0},{"$f":"COUNTIF(一般社員!$AU:$AU,1)","v":0},{"$f":"COUNTIF(回答データ一覧!$AV:$AV,1)","v":0},{"$f":"COUNTIF(管理職!$AV:$AV,1)","v":0},{"$f":"COUNTIF(一般社員!$AV:$AV,1)","v":0},{"$f":"COUNTIF(回答データ一覧!$AW:$AW,1)","v":0},{"$f":"COUNTIF(管理職!$AW:$AW,1)","v":0},{"$f":"COUNTIF(一般社員!$AW:$AW,1)","v":0}]
["平均",{"$f":"(B48*5+B47*4+B46*3+B45*2+B44*1)/SUM(B44:B48)","v":{"$error":"#DIV/0!"}},{"$f":"(C48*5+C47*4+C46*3+C45*2+C44*1)/SUM(C44:C48)","v":{"$error":"#DIV/0!"}},{"$f":"(D48*5+D47*4+D46*3+D45*2+D44*1)/SUM(D44:D48)","v":{"$error":"#DIV/0!"}},{"$f":"(E48*5+E47*4+E46*3+E45*2+E44*1)/SUM(E44:E48)","v":{"$error":"#DIV/0!"}},{"$f":"(F48*5+F47*4+F46*3+F45*2+F44*1)/SUM(F44:F48)","v":{"$error":"#DIV/0!"}},{"$f":"(G48*5+G47*4+G46*3+G45*2+G44*1)/SUM(G44:G48)","v":{"$error":"#DIV/0!"}},{"$f":"(H48*5+H47*4+H46*3+H45*2+H44*1)/SUM(H44:H48)","v":{"$error":"#DIV/0!"}},{"$f":"(I48*5+I47*4+I46*3+I45*2+I44*1)/SUM(I44:I48)","v":{"$error":"#DIV/0!"}},{"$f":"(J48*5+J47*4+J46*3+J45*2+J44*1)/SUM(J44:J48)","v":{"$error":"#DIV/0!"}},{"$f":"(K48*5+K47*4+K46*3+K45*2+K44*1)/SUM(K44:K48)","v":{"$error":"#DIV/0!"}},{"$f":"(L48*5+L47*4+L46*3+L45*2+L44*1)/SUM(L44:L48)","v":{"$error":"#DIV/0!"}},{"$f":"(M48*5+M47*4+M46*3+M45*2+M44*1)/SUM(M44:M48)","v":{"$error":"#DIV/0!"}},{"$f":"(N48*5+N47*4+N46*3+N45*2+N44*1)/SUM(N44:N48)","v":{"$error":"#DIV/0!"}},{"$f":"(O48*5+O47*4+O46*3+O45*2+O44*1)/SUM(O44:O48)","v":{"$error":"#DIV/0!"}},{"$f":"(P48*5+P47*4+P46*3+P45*2+P44*1)/SUM(P44:P48)","v":{"$error":"#DIV/0!"}},{"$f":"(Q48*5+Q47*4+Q46*3+Q45*2+Q44*1)/SUM(Q44:Q48)","v":{"$error":"#DIV/0!"}},{"$f":"(R48*5+R47*4+R46*3+R45*2+R44*1)/SUM(R44:R48)","v":{"$error":"#DIV/0!"}},{"$f":"(S48*5+S47*4+S46*3+S45*2+S44*1)/SUM(S44:S48)","v":{"$error":"#DIV/0!"}},{"$f":"(T48*5+T47*4+T46*3+T45*2+T44*1)/SUM(T44:T48)","v":{"$error":"#DIV/0!"}},{"$f":"(U48*5+U47*4+U46*3+U45*2+U44*1)/SUM(U44:U48)","v":{"$error":"#DIV/0!"}},{"$f":"(V48*5+V47*4+V46*3+V45*2+V44*1)/SUM(V44:V48)","v":{"$error":"#DIV/0!"}},{"$f":"(W48*5+W47*4+W46*3+W45*2+W44*1)/SUM(W44:W48)","v":{"$error":"#DIV/0!"}},{"$f":"(X48*5+X47*4+X46*3+X45*2+X44*1)/SUM(X44:X48)","v":{"$error":"#DIV/0!"}},{"$f":"(Y48*5+Y47*4+Y46*3+Y45*2+Y44*1)/SUM(Y44:Y48)","v":{"$error":"#DIV/0!"}},{"$f":"(Z48*5+Z47*4+Z46*3+Z45*2+Z44*1)/SUM(Z44:Z48)","v":{"$error":"#DIV/0!"}},{"$f":"(AA48*5+AA47*4+AA46*3+AA45*2+AA44*1)/SUM(AA44:AA48)","v":{"$error":"#DIV/0!"}},{"$f":"(AB48*5+AB47*4+AB46*3+AB45*2+AB44*1)/SUM(AB44:AB48)","v":{"$error":"#DIV/0!"}},{"$f":"(AC48*5+AC47*4+AC46*3+AC45*2+AC44*1)/SUM(AC44:AC48)","v":{"$error":"#DIV/0!"}},{"$f":"(AD48*5+AD47*4+AD46*3+AD45*2+AD44*1)/SUM(AD44:AD48)","v":{"$error":"#DIV/0!"}},{"$f":"(AE48*5+AE47*4+AE46*3+AE45*2+AE44*1)/SUM(AE44:AE48)","v":{"$error":"#DIV/0!"}}]
[]
[null,"モチベーション",null,null,"顧客志向の業務",null,null,"採用",null,null,"異動",null,null,"育成",null,null,"評価",null,null,"経営理念",null,null,"水平連携",null,null,"創発的学習",null,null,"多様性尊重"]
[null,"全体","管理職","一般社員","全体","管理職","一般社員","全体","管理職","一般社員","全体","管理職","一般社員","全体","管理職","一般社員","全体","管理職","一般社員","全体","管理職","一般社員","全体","管理職","一般社員","全体","管理職","一般社員","全体","管理職","一般社員"]
["1.あてはまらない",{"$f":"COUNTIF(回答データ一覧!$D:$D,5)","v":0},{"$f":"COUNTIF(管理職!$D:$D,5)","v":0},{"$f":"COUNTIF(一般社員!$D:$D,5)","v":0},{"$f":"E4+H4+K4+N4+Q4","v":0},{"$f":"F4+I4+L4+O4+R4","v":0},{"$f":"G4+J4+M4+P4+S4","v":0},{"$f":"B14+E14+H14+K14+N14","v":0},{"$f":"C14+F14+I14+L14+O14","v":0},0,{"$f":"Q14+T14+W14+Z14+AC14","v":0},{"$f":"R14+U14+X14+AA14+AD14","v":0},0,{"$f":"B24+E24+H24+K24+N24","v":0},{"$f":"C24+F24+I24+L24+O24","v":0},0,{"$f":"Q24+T24+W24+Z24+AC24","v":0},{"$f":"R24+U24+X24+AA24+AD24","v":0},0,{"$f":"B34+E34+H34+K34+N34","v":0},{"$f":"C34+F34+I34+L34+O34","v":0},0,{"$f":"Q34+T34+W34+Z34+AC34","v":0},{"$f":"R34+U34+X34+AA34+AD34","v":0},0,{"$f":"B44+E44+H44+K44+N44","v":0},{"$f":"C44+F44+I44+L44+O44","v":0},0,{"$f":"Q44+T44+W44+Z44+AC44","v":0},{"$f":"R44+U44+X44+AA44+AD44","v":0},0]
["2.ややあてはまらない",{"$f":"COUNTIF(回答データ一覧!$D:$D,4)","v":0},{"$f":"COUNTIF(管理職!$D:$D,4)","v":0},{"$f":"COUNTIF(一般社員!$D:$D,4)","v":0},{"$f":"E5+H5+K5+N5+Q5","v":0},0,0,{"$f":"B15+E15+H15+K15+N15","v":0},0,0,{"$f":"Q15+T15+W15+Z15+AC15","v":0},0,0,{"$f":"B25+E25+H25+K25+N25","v":0},0,0,{"$f":"Q25+T25+W25+Z25+AC25","v":0},0,0,{"$f":"B35+E35+H35+K35+N35","v":0},0,0,{"$f":"Q35+T35+W35+Z35+AC35","v":0},0,0,{"$f":"B45+E45+H45+K45+N45","v":0},0,0,{"$f":"Q45+T45+W45+Z45+AC45","v":0},0,0]
["3.どちらとも言えない",{"$f":"COUNTIF(回答データ一覧!$D:$D,3)","v":0},{"$f":"COUNTIF(管理職!$D:$D,3)","v":0},{"$f":"COUNTIF(一般社員!$D:$D,3)","v":0},{"$f":"E6+H6+K6+N6+Q6","v":0},0,0,{"$f":"B16+E16+H16+K16+N16","v":0},0,0,{"$f":"Q16+T16+W16+Z16+AC16","v":0},0,0,{"$f":"B26+E26+H26+K26+N26","v":0},0,0,{"$f":"Q26+T26+W26+Z26+AC26","v":0},0,0,{"$f":"B36+E36+H36+K36+N36","v":0},0,0,{"$f":"Q36+T36+W36+Z36+AC36","v":0},0,0,{"$f":"B46+E46+H46+K46+N46","v":0},0,0,{"$f":"Q46+T46+W46+Z46+AC46","v":0},0,0]
["4.ややあてはまる",{"$f":"COUNTIF(回答データ一覧!$D:$D,2)","v":0},{"$f":"COUNTIF(管理職!$D:$D,2)","v":0},{"$f":"COUNTIF(一般社員!$D:$D,2)","v":0},{"$f":"E7+H7+K7+N7+Q7","v":0},0,0,{"$f":"B17+E17+H17+K17+N17","v":0},0,0,{"$f":"Q17+T17+W17+Z17+AC17","v":0},0,0,{"$f":"B27+E27+H27+K27+N27","v":0},0,0,{"$f":"Q27+T27+W27+Z27+AC27","v":0},0,0,{"$f":"B37+E37+H37+K37+N37","v":0},0,0,{"$f":"Q37+T37+W37+Z37+AC37","v":0},0,0,{"$f":"B47+E47+H47+K47+N47","v":0},0,0,{"$f":"Q47+T47+W47+Z47+AC47","v":0},0,0]
["5.あてはまる",{"$f":"COUNTIF(回答データ一覧!$D:$D,1)","v":0},{"$f":"COUNTIF(管理職!$D:$D,1)","v":0},{"$f":"COUNTIF(一般社員!$D:$D,1)","v":0},{"$f":"E8+H8+K8+N8+Q8","v":0},0,0,{"$f":"B18+E18+H18+K18+N18","v":0},0,0,{"$f":"Q18+T18+W18+Z18+AC18","v":0},0,0,{"$f":"B28+E28+H28+K28+N28","v":0},0,0,{"$f":"Q28+T28+W28+Z28+AC28","v":0},0,0,{"$f":"B38+E38+H38+K38+N38","v":0},0,0,{"$f":"Q38+T38+W38+Z38+AC38","v":0},0,0,{"$f":"B48+E48+H48+K48+N48","v":0},0,0,{"$f":"Q48+T48+W48+Z48+AC48","v":0},0,0]
["平均",{"$f":"(B57*5+B56*4+B55*3+B54*2+B53*1)/SUM(B53:B57)","v":{"$error":"#DIV/0!"}},{"$f":"(C57*5+C56*4+C55*3+C54*2+C53*1)/SUM(C53:C57)","v":{"$error":"#DIV/0!"}},{"$f":"(D57*5+D56*4+D55*3+D54*2+D53*1)/SUM(D53:D57)","v":{"$error":"#DIV/0!"}},{"$f":"(E57*5+E56*4+E55*3+E54*2+E53*1)/SUM(E53:E57)","v":{"$error":"#DIV/0!"}},{"$f":"(F57*5+F56*4+F55*3+F54*2+F53*1)/SUM(F53:F57)","v":{"$error":"#DIV/0!"}},{"$f":"(G57*5+G56*4+G55*3+G54*2+G53*1)/SUM(G53:G57)","v":{"$error":"#DIV/0!"}},{"$f":"(H57*5+H56*4+H55*3+H54*2+H53*1)/SUM(H53:H57)","v":{"$error":"#DIV/0!"}},{"$f":"(I57*5+I56*4+I55*3+I54*2+I53*1)/SUM(I53:I57)","v":{"$error":"#DIV/0!"}},{"$f":"(J57*5+J56*4+J55*3+J54*2+J53*1)/SUM(J53:J57)","v":{"$error":"#DIV/0!"}},{"$f":"(K57*5+K56*4+K55*3+K54*2+K53*1)/SUM(K53:K57)","v":{"$error":"#DIV/0!"}},{"$f":"(L57*5+L56*4+L55*3+L54*2+L53*1)/SUM(L53:L57)","v":{"$error":"#DIV/0!"}},{"$f":"(M57*5+M56*4+M55*3+M54*2+M53*1)/SUM(M53:M57)","v":{"$error":"#DIV/0!"}},{"$f":"(N57*5+N56*4+N55*3+N54*2+N53*1)/SUM(N53:N57)","v":{"$error":"#DIV/0!"}},{"$f":"(O57*5+O56*4+O55*3+O54*2+O53*1)/SUM(O53:O57)","v":{"$error":"#DIV/0!"}},{"$f":"(P57*5+P56*4+P55*3+P54*2+P53*1)/SUM(P53:P57)","v":{"$error":"#DIV/0!"}},{"$f":"(Q57*5+Q56*4+Q55*3+Q54*2+Q53*1)/SUM(Q53:Q57)","v":{"$error":"#DIV/0!"}},{"$f":"(R57*5+R56*4+R55*3+R54*2+R53*1)/SUM(R53:R57)","v":{"$error":"#DIV/0!"}},{"$f":"(S57*5+S56*4+S55*3+S54*2+S53*1)/SUM(S53:S57)","v":{"$error":"#DIV/0!"}},{"$error":"#DIV/0!"},{"$f":"(U57*5+U56*4+U55*3+U54*2+U53*1)/SUM(U53:U57)","v":{"$error":"#DIV/0!"}},{"$f":"(V57*5+V56*4+V55*3+V54*2+V53*1)/SUM(V53:V57)","v":{"$error":"#DIV/0!"}},{"$error":"#DIV/0!"},{"$f":"(X57*5+X56*4+X55*3+X54*2+X53*1)/SUM(X53:X57)","v":{"$error":"#DIV/0!"}},{"$f":"(Y57*5+Y56*4+Y55*3+Y54*2+Y53*1)/SUM(Y53:Y57)","v":{"$error":"#DIV/0!"}},{"$error":"#DIV/0!"},{"$f":"(AA57*5+AA56*4+AA55*3+AA54*2+AA53*1)/SUM(AA53:AA57)","v":{"$error":"#DIV/0!"}},{"$f":"(AB57*5+AB56*4+AB55*3+AB54*2+AB53*1)/SUM(AB53:AB57)","v":{"$error":"#DIV/0!"}},{"$error":"#DIV/0!"},{"$f":"(AD57*5+AD56*4+AD55*3+AD54*2+AD53*1)/SUM(AD53:AD57)","v":{"$error":"#DIV/0!"}},{"$f":"(AE57*5+AE56*4+AE55*3+AE54*2+AE53*1)/SUM(AE53:AE57)","v":{"$error":"#DIV/0!"}}]